BEGIN:VCALENDAR
VERSION:2.0
PRODID:-//Audiosure - ECPv6.15.20//NONSGML v1.0//EN
CALSCALE:GREGORIAN
METHOD:PUBLISH
X-WR-CALNAME:Audiosure
X-ORIGINAL-URL:https://audiosure.co.za
X-WR-CALDESC:Events for Audiosure
REFRESH-INTERVAL;VALUE=DURATION:PT1H
X-Robots-Tag:noindex
X-PUBLISHED-TTL:PT1H
BEGIN:VTIMEZONE
TZID:Africa/Johannesburg
BEGIN:STANDARD
TZOFFSETFROM:+0200
TZOFFSETTO:+0200
TZNAME:SAST
DTSTART:20210101T000000
END:STANDARD
END:VTIMEZONE
BEGIN:VEVENT
DTSTART;TZID=Africa/Johannesburg:20220621T083000
DTEND;TZID=Africa/Johannesburg:20220623T170000
DTSTAMP:20260426T055432
CREATED:20220223T084338Z
LAST-MODIFIED:20220223T093549Z
UID:12729-1655800200-1656003600@audiosure.co.za
SUMMARY:Martin Audio and Chauvet Pro Open Day JHB
DESCRIPTION:Come and join us at Audiosure Midrand as we showcase the Hi End Products available from Martin Audio and Chauvet Pro. Product Specialists John Greaves and Kevin George will be on hand to demo the products and answer and questions you may have.
URL:https://audiosure.co.za/event/martin-audio-and-chauvet-pro-open-day-jhb/
LOCATION:Audiosure Johannesburg\, 17 Silverstone Crescent\, Kyalami Office Park\, Midrand\, Gauteng\, South Africa
CATEGORIES:Events,Training
ORGANIZER;CN="John Greaves":MAILTO:johng@audiosure.co.za
END:VEVENT
END:VCALENDAR