BEGIN:VCALENDAR
VERSION:2.0
PRODID:-//Audiosure - ECPv6.15.20//NONSGML v1.0//EN
CALSCALE:GREGORIAN
METHOD:PUBLISH
X-ORIGINAL-URL:https://audiosure.co.za
X-WR-CALDESC:Events for Audiosure
REFRESH-INTERVAL;VALUE=DURATION:PT1H
X-Robots-Tag:noindex
X-PUBLISHED-TTL:PT1H
BEGIN:VTIMEZONE
TZID:Africa/Johannesburg
BEGIN:STANDARD
TZOFFSETFROM:+0200
TZOFFSETTO:+0200
TZNAME:SAST
DTSTART:20210101T000000
END:STANDARD
END:VTIMEZONE
BEGIN:VEVENT
DTSTART;TZID=Africa/Johannesburg:20220713T083000
DTEND;TZID=Africa/Johannesburg:20220713T170000
DTSTAMP:20260426T040952
CREATED:20220223T085248Z
LAST-MODIFIED:20220223T085428Z
UID:12731-1657701000-1657731600@audiosure.co.za
SUMMARY:Allen & Heath QU Training JHB
DESCRIPTION:Come join the Allen & Heath product specialist Lesedi Maponya as he guides new and experienced users through the entire QU environment and workflow. Due to demand we have conveniently condensed the Level 1 and 2 courses into single day. A certificate of completion will be supplied on the day and a light lunch\, drinks and snacks are included with the fee of R450. Contact Lesedi to book your spot\, space is limited.
URL:https://audiosure.co.za/event/allen-heath-qu-training-jhb/
LOCATION:Audiosure Johannesburg\, 17 Silverstone Crescent\, Kyalami Office Park\, Midrand\, Gauteng\, South Africa
CATEGORIES:Training
ORGANIZER;CN="Lesedi Maponya":MAILTO:lesedim@audiosure.co.za
END:VEVENT
BEGIN:VEVENT
DTSTART;TZID=Africa/Johannesburg:20220720T090000
DTEND;TZID=Africa/Johannesburg:20220720T170000
DTSTAMP:20260426T040952
CREATED:20220223T090204Z
LAST-MODIFIED:20220223T090204Z
UID:12735-1658307600-1658336400@audiosure.co.za
SUMMARY:Allen & Heath SQ Training JHB
DESCRIPTION:Come join the Allen & Heath product specialist Lesedi Maponya as he guides new and experienced users through the entire SQ environment and workflow. Due to demand we have conveniently condensed the Level 1 and 2 courses into single day. A certificate of completion will be supplied on the day and a light lunch\, drinks and snacks are included with the fee of R450. Contact Lesedi to book your spot\, space is limited.
URL:https://audiosure.co.za/event/allen-heath-sq-training-jhb-2/
LOCATION:Audiosure Johannesburg\, 17 Silverstone Crescent\, Kyalami Office Park\, Midrand\, Gauteng\, South Africa
CATEGORIES:Training
ORGANIZER;CN="Lesedi Maponya":MAILTO:lesedim@audiosure.co.za
END:VEVENT
BEGIN:VEVENT
DTSTART;TZID=Africa/Johannesburg:20220727T083000
DTEND;TZID=Africa/Johannesburg:20220727T170000
DTSTAMP:20260426T040952
CREATED:20220223T090800Z
LAST-MODIFIED:20220223T090800Z
UID:12739-1658910600-1658941200@audiosure.co.za
SUMMARY:Allen & Heath Avantis Training JHB
DESCRIPTION:Come join the Allen & Heath product specialist Lesedi Maponya as he guides new and experienced users through the entire Avantis environment and workflow. Due to demand we have conveniently condensed the Level 1 and 2 courses into single day. A certificate of completion will be supplied on the day and a light lunch\, drinks and snacks are included with the fee of R450. Contact Lesedi to book your spot\, space is limited.
URL:https://audiosure.co.za/event/allen-heath-avantis-training-jhb-2/
LOCATION:Audiosure Johannesburg\, 17 Silverstone Crescent\, Kyalami Office Park\, Midrand\, Gauteng\, South Africa
CATEGORIES:Training
ORGANIZER;CN="Lesedi Maponya":MAILTO:lesedim@audiosure.co.za
END:VEVENT
END:VCALENDAR