BEGIN:VCALENDAR
VERSION:2.0
PRODID:-//Audiosure - ECPv6.15.20//NONSGML v1.0//EN
CALSCALE:GREGORIAN
METHOD:PUBLISH
X-WR-CALNAME:Audiosure
X-ORIGINAL-URL:https://audiosure.co.za
X-WR-CALDESC:Events for Audiosure
REFRESH-INTERVAL;VALUE=DURATION:PT1H
X-Robots-Tag:noindex
X-PUBLISHED-TTL:PT1H
BEGIN:VTIMEZONE
TZID:Africa/Johannesburg
BEGIN:STANDARD
TZOFFSETFROM:+0200
TZOFFSETTO:+0200
TZNAME:SAST
DTSTART:20210101T000000
END:STANDARD
END:VTIMEZONE
BEGIN:VEVENT
DTSTART;TZID=Africa/Johannesburg:20220907T083000
DTEND;TZID=Africa/Johannesburg:20220907T170000
DTSTAMP:20260426T003816
CREATED:20220223T091112Z
LAST-MODIFIED:20220223T092321Z
UID:12741-1662539400-1662570000@audiosure.co.za
SUMMARY:Allen & Heath QU Training JHB
DESCRIPTION:Come join the Allen & Heath product specialist Lesedi Maponya as he guides new and experienced users through the entire QU environment and workflow. Due to demand we have conveniently condensed the Level 1 and 2 courses into single day. A certificate of completion will be supplied on the day and a light lunch\, drinks and snacks are included with the fee of R450. Contact Lesedi to book your spot\, space is limited.
URL:https://audiosure.co.za/event/allen-heath-qu-training-jhb-3/
LOCATION:Audiosure Johannesburg\, 17 Silverstone Crescent\, Kyalami Office Park\, Midrand\, Gauteng\, South Africa
CATEGORIES:Training
ORGANIZER;CN="Lesedi Maponya":MAILTO:lesedim@audiosure.co.za
END:VEVENT
BEGIN:VEVENT
DTSTART;TZID=Africa/Johannesburg:20220914T083000
DTEND;TZID=Africa/Johannesburg:20220914T170000
DTSTAMP:20260426T003816
CREATED:20220223T091332Z
LAST-MODIFIED:20220223T091332Z
UID:12744-1663144200-1663174800@audiosure.co.za
SUMMARY:Allen & Heath SQ Training JHB
DESCRIPTION:Come join the Allen & Heath product specialist Lesedi Maponya as he guides new and experienced users through the entire SQ environment and workflow. Due to demand we have conveniently condensed the Level 1 and 2 courses into single day. A certificate of completion will be supplied on the day and a light lunch\, drinks and snacks are included with the fee of R450. Contact Lesedi to book your spot\, space is limited.
URL:https://audiosure.co.za/event/allen-heath-sq-training-jhb-3/
LOCATION:Audiosure Johannesburg\, 17 Silverstone Crescent\, Kyalami Office Park\, Midrand\, Gauteng\, South Africa
CATEGORIES:Training
ORGANIZER;CN="Lesedi Maponya":MAILTO:lesedim@audiosure.co.za
END:VEVENT
BEGIN:VEVENT
DTSTART;TZID=Africa/Johannesburg:20220921T083000
DTEND;TZID=Africa/Johannesburg:20220921T170000
DTSTAMP:20260426T003816
CREATED:20220223T091606Z
LAST-MODIFIED:20220223T091606Z
UID:12746-1663749000-1663779600@audiosure.co.za
SUMMARY:Allen & Heath Avantis Training JHB
DESCRIPTION:Come join the Allen & Heath product specialist Lesedi Maponya as he guides new and experienced users through the entire Avantis environment and workflow. Due to demand we have conveniently condensed the Level 1 and 2 courses into single day. A certificate of completion will be supplied on the day and a light lunch\, drinks and snacks are included with the fee of R450. Contact Lesedi to book your spot\, space is limited.
URL:https://audiosure.co.za/event/allen-heath-avantis-training-jhb-3/
LOCATION:Audiosure Johannesburg\, 17 Silverstone Crescent\, Kyalami Office Park\, Midrand\, Gauteng\, South Africa
CATEGORIES:Training
ORGANIZER;CN="Lesedi Maponya":MAILTO:lesedim@audiosure.co.za
END:VEVENT
BEGIN:VEVENT
DTSTART;TZID=Africa/Johannesburg:20220928T083000
DTEND;TZID=Africa/Johannesburg:20220928T170000
DTSTAMP:20260426T003816
CREATED:20220223T091742Z
LAST-MODIFIED:20220223T091742Z
UID:12748-1664353800-1664384400@audiosure.co.za
SUMMARY:Allen & Heath dLive Training JHB
DESCRIPTION:Come join the Allen & Heath product specialist Lesedi Maponya as he guides new and experienced users through the entire dLive environment and workflow. Due to demand we have conveniently condensed the Level 1 and 2 courses into single day. A certificate of completion will be supplied on the day and a light lunch\, drinks and snacks are included with the fee of R450. Contact Lesedi to book your spot\, space is limited.
URL:https://audiosure.co.za/event/allen-heath-dlive-training-jhb/
LOCATION:Audiosure Johannesburg\, 17 Silverstone Crescent\, Kyalami Office Park\, Midrand\, Gauteng\, South Africa
CATEGORIES:Training
ORGANIZER;CN="Lesedi Maponya":MAILTO:lesedim@audiosure.co.za
END:VEVENT
END:VCALENDAR