BEGIN:VCALENDAR
VERSION:2.0
PRODID:-//Audiosure - ECPv6.15.20//NONSGML v1.0//EN
CALSCALE:GREGORIAN
METHOD:PUBLISH
X-WR-CALNAME:Audiosure
X-ORIGINAL-URL:https://audiosure.co.za
X-WR-CALDESC:Events for Audiosure
REFRESH-INTERVAL;VALUE=DURATION:PT1H
X-Robots-Tag:noindex
X-PUBLISHED-TTL:PT1H
BEGIN:VTIMEZONE
TZID:Africa/Johannesburg
BEGIN:STANDARD
TZOFFSETFROM:+0200
TZOFFSETTO:+0200
TZNAME:SAST
DTSTART:20210101T000000
END:STANDARD
END:VTIMEZONE
BEGIN:VEVENT
DTSTART;TZID=Africa/Johannesburg:20221011T080000
DTEND;TZID=Africa/Johannesburg:20221013T170000
DTSTAMP:20260425T225245
CREATED:20220223T092214Z
LAST-MODIFIED:20220223T093533Z
UID:12750-1665475200-1665680400@audiosure.co.za
SUMMARY:Martin Audio and Chauvet Open Days
DESCRIPTION:Come and join us at Audiosure Midrand as we showcase the Hi End Products available from Martin Audio and Chauvet Pro. Product Specialists John Greaves and Kevin George will be on hand to demo the products and answer any questions you may have.
URL:https://audiosure.co.za/event/martin-audio-and-chauvet-open-days/
LOCATION:Audiosure Johannesburg\, 17 Silverstone Crescent\, Kyalami Office Park\, Midrand\, Gauteng\, South Africa
CATEGORIES:Events,Training
ORGANIZER;CN="John Greaves":MAILTO:johng@audiosure.co.za
END:VEVENT
END:VCALENDAR