BEGIN:VCALENDAR
VERSION:2.0
PRODID:-//Audiosure - ECPv6.15.20//NONSGML v1.0//EN
CALSCALE:GREGORIAN
METHOD:PUBLISH
X-WR-CALNAME:Audiosure
X-ORIGINAL-URL:https://audiosure.co.za
X-WR-CALDESC:Events for Audiosure
REFRESH-INTERVAL;VALUE=DURATION:PT1H
X-Robots-Tag:noindex
X-PUBLISHED-TTL:PT1H
BEGIN:VTIMEZONE
TZID:Africa/Johannesburg
BEGIN:STANDARD
TZOFFSETFROM:+0200
TZOFFSETTO:+0200
TZNAME:SAST
DTSTART:20220101T000000
END:STANDARD
END:VTIMEZONE
BEGIN:VEVENT
DTSTART;TZID=Africa/Johannesburg:20231109T090000
DTEND;TZID=Africa/Johannesburg:20231109T150000
DTSTAMP:20260424T235245
CREATED:20230404T134614Z
LAST-MODIFIED:20230404T135326Z
UID:13221-1699520400-1699542000@audiosure.co.za
SUMMARY:Allen & Heath QU Training
DESCRIPTION:Come join the Allen & Heath product specialist Lesedi Maponya as he guides new and experienced users through the entire QU environment and workflow. Due to demand we have conveniently condensed the Level 1 and 2 courses into single day. A certificate of completion will be supplied on the day and a light lunch\, drinks and snacks are included with the fee of R450. Contact Ntokozo today to book your spot\, space is limited.
URL:https://audiosure.co.za/event/qu-training/
LOCATION:Audiosure Johannesburg\, 17 Silverstone Crescent\, Kyalami Office Park\, Midrand\, Gauteng\, South Africa
CATEGORIES:Events,Training
ORGANIZER;CN="Dave Skinz":MAILTO:daves@audiosure.co.za
END:VEVENT
BEGIN:VEVENT
DTSTART;TZID=Africa/Johannesburg:20231116T090000
DTEND;TZID=Africa/Johannesburg:20231116T150000
DTSTAMP:20260424T235245
CREATED:20230404T134614Z
LAST-MODIFIED:20230404T135517Z
UID:13228-1700125200-1700146800@audiosure.co.za
SUMMARY:Allen & Heath SQ Training
DESCRIPTION:Come join the Allen & Heath product specialist Lesedi Maponya as he guides new and experienced users through the entire SQ environment and workflow. Due to demand we have conveniently condensed the Level 1 and 2 courses into single day. A certificate of completion will be supplied on the day and a light lunch\, drinks and snacks are included with the fee of R450. Contact Ntokozo today to book your spot\, space is limited.
URL:https://audiosure.co.za/event/sq-training/
LOCATION:Audiosure Johannesburg\, 17 Silverstone Crescent\, Kyalami Office Park\, Midrand\, Gauteng\, South Africa
CATEGORIES:Events,Training
ORGANIZER;CN="Dave Skinz":MAILTO:daves@audiosure.co.za
END:VEVENT
BEGIN:VEVENT
DTSTART;TZID=Africa/Johannesburg:20231123T090000
DTEND;TZID=Africa/Johannesburg:20231123T150000
DTSTAMP:20260424T235245
CREATED:20230404T134614Z
LAST-MODIFIED:20230404T135825Z
UID:13226-1700730000-1700751600@audiosure.co.za
SUMMARY:Allen & Heath Avantis Training
DESCRIPTION:Come join the Allen & Heath product specialist Lesedi Maponya as he guides new and experienced users through the entire Avantis environment and workflow. Due to demand we have conveniently condensed the Level 1 and 2 courses into single day. A certificate of completion will be supplied on the day and a light lunch\, drinks and snacks are included with the fee of R450. Contact Ntokozo today to book your spot\, space is limited.
URL:https://audiosure.co.za/event/avantis-training/
LOCATION:Audiosure Johannesburg\, 17 Silverstone Crescent\, Kyalami Office Park\, Midrand\, Gauteng\, South Africa
CATEGORIES:Events,Training
ORGANIZER;CN="Dave Skinz":MAILTO:daves@audiosure.co.za
END:VEVENT
BEGIN:VEVENT
DTSTART;TZID=Africa/Johannesburg:20231129T090000
DTEND;TZID=Africa/Johannesburg:20231129T150000
DTSTAMP:20260424T235245
CREATED:20230404T134614Z
LAST-MODIFIED:20230404T140054Z
UID:13236-1701248400-1701270000@audiosure.co.za
SUMMARY:Allen & Heath dLive Training
DESCRIPTION:Come join the Allen & Heath product specialist Lesedi Maponya as he guides new and experienced users through the entire dLive environment and workflow. Due to demand we have conveniently condensed the Level 1 and 2 courses into single day. A certificate of completion will be supplied on the day and a light lunch\, drinks and snacks are included with the fee of R450. Contact Ntokozo today to book your spot\, space is limited.
URL:https://audiosure.co.za/event/dlive-training/
LOCATION:Audiosure Johannesburg\, 17 Silverstone Crescent\, Kyalami Office Park\, Midrand\, Gauteng\, South Africa
CATEGORIES:Events,Training
ORGANIZER;CN="Dave Skinz":MAILTO:daves@audiosure.co.za
END:VEVENT
END:VCALENDAR