BEGIN:VCALENDAR
VERSION:2.0
PRODID:-//Audiosure - ECPv6.15.20//NONSGML v1.0//EN
CALSCALE:GREGORIAN
METHOD:PUBLISH
X-WR-CALNAME:Audiosure
X-ORIGINAL-URL:https://audiosure.co.za
X-WR-CALDESC:Events for Audiosure
REFRESH-INTERVAL;VALUE=DURATION:PT1H
X-Robots-Tag:noindex
X-PUBLISHED-TTL:PT1H
BEGIN:VTIMEZONE
TZID:Africa/Johannesburg
BEGIN:STANDARD
TZOFFSETFROM:+0200
TZOFFSETTO:+0200
TZNAME:SAST
DTSTART:20230101T000000
END:STANDARD
END:VTIMEZONE
BEGIN:VEVENT
DTSTART;VALUE=DATE:20241001
DTEND;VALUE=DATE:20241002
DTSTAMP:20260424T055016
CREATED:20240213T094141Z
LAST-MODIFIED:20240213T094223Z
UID:13792-1727740800-1727827199@audiosure.co.za
SUMMARY:Allen & Heath JHB QU Training
DESCRIPTION:Come join the Allen & Heath product specialist Lesedi Maponya as he guides new and experienced users through the entire QU environment and workflow. Due to demand we have conveniently condensed the course into single day. A certificate of completion will be supplied on the day and a light lunch\, drinks and snacks are included with the fee of R450. \nContact Ntokozo today to book your spot\, space is limited.
URL:https://audiosure.co.za/event/allen-heath-jhb-qu-training/
LOCATION:Audiosure Johannesburg\, 17 Silverstone Crescent\, Kyalami Office Park\, Midrand\, Gauteng\, South Africa
CATEGORIES:Events,Training
ATTACH;FMTTYPE=image/png:https://audiosure.co.za/wp-content/uploads/2024/02/Allen-amp-Heath-Training-2024-JHB.png
ORGANIZER;CN="Ntokozo Mnisi":MAILTO:NtokozoM@audiosure.co.za
END:VEVENT
BEGIN:VEVENT
DTSTART;VALUE=DATE:20241008
DTEND;VALUE=DATE:20241009
DTSTAMP:20260424T055016
CREATED:20240213T094351Z
LAST-MODIFIED:20240213T094351Z
UID:13797-1728345600-1728431999@audiosure.co.za
SUMMARY:Allen & Heath JHB SQ Training
DESCRIPTION:Come join the Allen & Heath product specialist Lesedi Maponya as he guides new and experienced users through the entire SQ environment and workflow. Due to demand we have conveniently condensed the course into single day. A certificate of completion will be supplied on the day and a light lunch\, drinks and snacks are included with the fee of R450. \nContact Ntokozo today to book your spot\, space is limited.
URL:https://audiosure.co.za/event/allen-heath-jhb-sq-training/
LOCATION:Audiosure Johannesburg\, 17 Silverstone Crescent\, Kyalami Office Park\, Midrand\, Gauteng\, South Africa
CATEGORIES:Events,Training
ATTACH;FMTTYPE=image/png:https://audiosure.co.za/wp-content/uploads/2024/02/Allen-amp-Heath-Training-2024-JHB.png
ORGANIZER;CN="Ntokozo Mnisi":MAILTO:NtokozoM@audiosure.co.za
END:VEVENT
BEGIN:VEVENT
DTSTART;VALUE=DATE:20241015
DTEND;VALUE=DATE:20241016
DTSTAMP:20260424T055016
CREATED:20240213T094538Z
LAST-MODIFIED:20250130T090427Z
UID:13799-1728950400-1729036799@audiosure.co.za
SUMMARY:Allen & Heath JHB Avantis Training
DESCRIPTION:Come join the Allen & Heath product specialist Lesedi Maponya as he guides new and experienced users through the entire Avantis environment and workflow. Due to demand we have conveniently condensed the course into single day. A certificate of completion will be supplied on the day and a light lunch\, drinks and snacks are included with the fee of R450. \nContact Ntokozo today to book your spot\, space is limited.
URL:https://audiosure.co.za/event/allen-heath-jhb-sq-training-2/
LOCATION:Audiosure Johannesburg\, 17 Silverstone Crescent\, Kyalami Office Park\, Midrand\, Gauteng\, South Africa
CATEGORIES:Training
ATTACH;FMTTYPE=image/png:https://audiosure.co.za/wp-content/uploads/2024/02/Allen-amp-Heath-Training-2024-JHB.png
ORGANIZER;CN="Ntokozo Mnisi":MAILTO:NtokozoM@audiosure.co.za
END:VEVENT
BEGIN:VEVENT
DTSTART;VALUE=DATE:20241022
DTEND;VALUE=DATE:20241023
DTSTAMP:20260424T055016
CREATED:20240213T094723Z
LAST-MODIFIED:20250130T090413Z
UID:13801-1729555200-1729641599@audiosure.co.za
SUMMARY:Allen & Heath JHB dLive Training
DESCRIPTION:Come join the Allen & Heath product specialist Lesedi Maponya as he guides new and experienced users through the entire dLive environment and workflow. Due to demand we have conveniently condensed the course into single day. A certificate of completion will be supplied on the day and a light lunch\, drinks and snacks are included with the fee of R450. \nContact Ntokozo today to book your spot\, space is limited.
URL:https://audiosure.co.za/event/allen-heath-jhb-sq-training-3/
LOCATION:Audiosure Johannesburg\, 17 Silverstone Crescent\, Kyalami Office Park\, Midrand\, Gauteng\, South Africa
CATEGORIES:Training
ATTACH;FMTTYPE=image/png:https://audiosure.co.za/wp-content/uploads/2024/02/Allen-amp-Heath-Training-2024-JHB.png
ORGANIZER;CN="Ntokozo Mnisi":MAILTO:NtokozoM@audiosure.co.za
END:VEVENT
END:VCALENDAR