BEGIN:VCALENDAR
VERSION:2.0
PRODID:-//Audiosure - ECPv6.15.20//NONSGML v1.0//EN
CALSCALE:GREGORIAN
METHOD:PUBLISH
X-ORIGINAL-URL:https://audiosure.co.za
X-WR-CALDESC:Events for Audiosure
REFRESH-INTERVAL;VALUE=DURATION:PT1H
X-Robots-Tag:noindex
X-PUBLISHED-TTL:PT1H
BEGIN:VTIMEZONE
TZID:Africa/Johannesburg
BEGIN:STANDARD
TZOFFSETFROM:+0200
TZOFFSETTO:+0200
TZNAME:SAST
DTSTART:20250101T000000
END:STANDARD
END:VTIMEZONE
BEGIN:VEVENT
DTSTART;TZID=Africa/Johannesburg:20260227T080000
DTEND;TZID=Africa/Johannesburg:20260227T170000
DTSTAMP:20260423T032103
CREATED:20260227T141807Z
LAST-MODIFIED:20260227T141807Z
UID:15317-1772179200-1772211600@audiosure.co.za
SUMMARY:Chauvet Maintenance Training JHB
DESCRIPTION:Come and join the Chauvet Product Specialists and Technicians as they cover the maintenance and upkeep of fixtures and controllers. \nContact Shari to book your spot :  SharijoyT@audiosure.co.za
URL:https://audiosure.co.za/event/chauvet-maintenance-training-jhb/
LOCATION:Audiosure Johannesburg\, 17 Silverstone Crescent\, Kyalami Office Park\, Midrand\, Gauteng\, South Africa
CATEGORIES:Training
ATTACH;FMTTYPE=image/png:https://audiosure.co.za/wp-content/uploads/2026/02/CHAUVET-Professional-Logo-black.png
ORGANIZER;CN="Kevin George":MAILTO:KevinG@audiosure.co.za
END:VEVENT
END:VCALENDAR