BEGIN:VCALENDAR
VERSION:2.0
PRODID:-//Audiosure - ECPv6.15.20//NONSGML v1.0//EN
CALSCALE:GREGORIAN
METHOD:PUBLISH
X-WR-CALNAME:Audiosure
X-ORIGINAL-URL:https://audiosure.co.za
X-WR-CALDESC:Events for Audiosure
REFRESH-INTERVAL;VALUE=DURATION:PT1H
X-Robots-Tag:noindex
X-PUBLISHED-TTL:PT1H
BEGIN:VTIMEZONE
TZID:Africa/Johannesburg
BEGIN:STANDARD
TZOFFSETFROM:+0200
TZOFFSETTO:+0200
TZNAME:SAST
DTSTART:20250101T000000
END:STANDARD
END:VTIMEZONE
BEGIN:VEVENT
DTSTART;TZID=Africa/Johannesburg:20260318T090000
DTEND;TZID=Africa/Johannesburg:20260318T163000
DTSTAMP:20260423T013504
CREATED:20260227T073534Z
LAST-MODIFIED:20260227T073534Z
UID:15275-1773824400-1773851400@audiosure.co.za
SUMMARY:Allen & Heath SQ - Training JHB
DESCRIPTION:We’re excited to announce our upcoming Allen & Heath 𝗦𝗤 𝗗𝗶𝗴𝗶𝘁𝗮𝗹 𝗖𝗼𝗻𝘀𝗼𝗹𝗲 𝗝𝗼𝗵𝗮𝗻𝗻𝗲𝘀𝗯𝘂𝗿𝗴 𝗧𝗿𝗮𝗶𝗻𝗶𝗻𝗴 \n\n\n\nJoin Lesedi Maponya\, our Allen & Heath Product Specialist\, for an in-depth training experience designed for production & events companies\, houses of worship\, and freelance engineers.\n\n\n\nThis is a great opportunity to enhance your skills and get ready for any show.\n\n\nParticipants who complete the course will receive a certificate of completion.\n\n\n\n 18th March 2026\n Time: 9:00am – 15:00pm\n Cost: R250 per day (includes a light lunch)\n\n\n\n Register here: https://forms.gle/kWVCeojjBkpZPjQ8A\n\n\n\n#AllenAndHeath #Audiosure #SQ #Training #LiveSound #AudioEngineering #Events #Production #SoundEngineers #AVTraining
URL:https://audiosure.co.za/event/allen-heath-sq-training-jhb-5/
LOCATION:Audiosure Johannesburg\, 17 Silverstone Crescent\, Kyalami Office Park\, Midrand\, Gauteng\, South Africa
CATEGORIES:Training
ATTACH;FMTTYPE=image/jpeg:https://audiosure.co.za/wp-content/uploads/2026/02/AH-SQ-TRAINING-18th-March-26-JHB.jpg
ORGANIZER;CN="Lesedi Maponya":MAILTO:lesedim@audiosure.co.za
END:VEVENT
BEGIN:VEVENT
DTSTART;TZID=Africa/Johannesburg:20260324T090000
DTEND;TZID=Africa/Johannesburg:20260324T153000
DTSTAMP:20260423T013504
CREATED:20260227T075312Z
LAST-MODIFIED:20260227T075312Z
UID:15279-1774342800-1774366200@audiosure.co.za
SUMMARY:ChamSys Quick Q Training JHB
DESCRIPTION:Audiosure is proud to present exclusive ChamSys QuickQ Training Sessions \nJoin Oscar Chauke\, our ChamSys Product Specialist\, as he dives into powerful control solutions — from basic show setup to more advanced show control\, MIDI and audio control and data distribution. \nWhether you’re sharpening your fundamentals or mastering complex configurations\, this session is for you. \n✔️ Certificate of completion included\n✔️ Hands-on learning\n✔️ Real-world event control insight \n📅 24 March 2026 – JHB\n🕘 Time: 09:00 – 15:00\n💰 Cost: R250 per day (includes a light lunch) \n🔗 Register here: https://forms.gle/Q9c4KVgo16qNbmbr8 \n#Audiosure #ChamSys #QuickQ #LightingControl #StageLighting #EventProduction #AVIndustry #LightingDesign #LiveEvents #TechnicalTraining #HandsOnTraining
URL:https://audiosure.co.za/event/chamsys-quick-q-training-jhb/
LOCATION:Audiosure Johannesburg\, 17 Silverstone Crescent\, Kyalami Office Park\, Midrand\, Gauteng\, South Africa
CATEGORIES:Training
ATTACH;FMTTYPE=image/png:https://audiosure.co.za/wp-content/uploads/2026/02/Chamsys-QuickQ-Training-2026.png
ORGANIZER;CN="Oscar Chauke":MAILTO:OscarC@audiosure.co.za
END:VEVENT
BEGIN:VEVENT
DTSTART;TZID=Africa/Johannesburg:20260325T090000
DTEND;TZID=Africa/Johannesburg:20260325T150000
DTSTAMP:20260423T013504
CREATED:20260227T080059Z
LAST-MODIFIED:20260227T080613Z
UID:15282-1774429200-1774450800@audiosure.co.za
SUMMARY:ChamSys Magic Q Training DBN
DESCRIPTION:Audiosure is proud to present exclusive ChamSys QuickQ Training Sessions \nJoin Oscar Chauke\, our ChamSys Product Specialist\, as he dives into powerful control solutions — from basic show setup to more advanced show control\, MIDI and audio control and data distribution. \nWhether you’re sharpening your fundamentals or mastering complex configurations\, this session is for you. \n✔️ Certificate of completion included\n✔️ Hands-on learning\n✔️ Real-world event control insight \n📅 25 March 2026 – DBN \n🕘 Time: 09:00 – 15:00\n💰 Cost: R250 per day (includes a light lunch) \n🔗 Register here: https://forms.gle/Q9c4KVgo16qNbmbr8 \n#Audiosure #ChamSys #QuickQ #LightingControl #StageLighting #EventProduction #AVIndustry #LightingDesign #LiveEvents #TechnicalTraining #HandsOnTraining \n 
URL:https://audiosure.co.za/event/chamsys-magic-q-training-dbn/
LOCATION:Audiosure Durban\, Tristar Building\, 43 Island Circle Riverhorse Estate\, Durban\, Kwa-Zulu Natal\, South Africa
CATEGORIES:Training
ATTACH;FMTTYPE=image/png:https://audiosure.co.za/wp-content/uploads/2026/02/Chamsys-QuickQ-Training-2026.png
ORGANIZER;CN="Oscar Chauke":MAILTO:OscarC@audiosure.co.za
END:VEVENT
END:VCALENDAR