BEGIN:VCALENDAR
VERSION:2.0
PRODID:-//Audiosure - ECPv6.15.20//NONSGML v1.0//EN
CALSCALE:GREGORIAN
METHOD:PUBLISH
X-WR-CALNAME:Audiosure
X-ORIGINAL-URL:https://audiosure.co.za
X-WR-CALDESC:Events for Audiosure
REFRESH-INTERVAL;VALUE=DURATION:PT1H
X-Robots-Tag:noindex
X-PUBLISHED-TTL:PT1H
BEGIN:VTIMEZONE
TZID:Africa/Johannesburg
BEGIN:STANDARD
TZOFFSETFROM:+0200
TZOFFSETTO:+0200
TZNAME:SAST
DTSTART:20240101T000000
END:STANDARD
END:VTIMEZONE
BEGIN:VEVENT
DTSTART;TZID=Africa/Johannesburg:20251008T090000
DTEND;TZID=Africa/Johannesburg:20251008T163000
DTSTAMP:20260423T233853
CREATED:20250130T103844Z
LAST-MODIFIED:20250730T074217Z
UID:14665-1759914000-1759941000@audiosure.co.za
SUMMARY:ChamSys Advanced Training - JHB
DESCRIPTION:Join us at our Midrand offices for an advanced training course on the ChamSys Lighting Controllers with certified system trainer and operator Oscar Chauke. This day course covers all the basics covering setup to simple operation. Attendees will receive a light lunch on the day with a digital certificate provided on completion of the course. Booking is required to confirm your spot. \nGet in touch with Sharijoy to reserve your space today. Space is limited!
URL:https://audiosure.co.za/event/chamsys-advanced-training-jhb/
LOCATION:Audiosure Johannesburg\, 17 Silverstone Crescent\, Kyalami Office Park\, Midrand\, Gauteng\, South Africa
CATEGORIES:Training
ATTACH;FMTTYPE=image/jpeg:https://audiosure.co.za/wp-content/uploads/2025/01/ChamSys.jpg
ORGANIZER;CN="Sharijoy Thamaha":MAILTO:SharijoyT@audiosure.co.za
END:VEVENT
END:VCALENDAR